BEGIN:VCALENDAR
VERSION:2.0
PRODID:-//Tony Cooke Ministries - ECPv6.15.20//NONSGML v1.0//EN
CALSCALE:GREGORIAN
METHOD:PUBLISH
X-ORIGINAL-URL:https://tonycooke.org
X-WR-CALDESC:Events for Tony Cooke Ministries
REFRESH-INTERVAL;VALUE=DURATION:PT1H
X-Robots-Tag:noindex
X-PUBLISHED-TTL:PT1H
BEGIN:VTIMEZONE
TZID:America/Chicago
BEGIN:DAYLIGHT
TZOFFSETFROM:-0600
TZOFFSETTO:-0500
TZNAME:CDT
DTSTART:20240310T080000
END:DAYLIGHT
BEGIN:STANDARD
TZOFFSETFROM:-0500
TZOFFSETTO:-0600
TZNAME:CST
DTSTART:20241103T070000
END:STANDARD
BEGIN:DAYLIGHT
TZOFFSETFROM:-0600
TZOFFSETTO:-0500
TZNAME:CDT
DTSTART:20250309T080000
END:DAYLIGHT
BEGIN:STANDARD
TZOFFSETFROM:-0500
TZOFFSETTO:-0600
TZNAME:CST
DTSTART:20251102T070000
END:STANDARD
BEGIN:DAYLIGHT
TZOFFSETFROM:-0600
TZOFFSETTO:-0500
TZNAME:CDT
DTSTART:20260308T080000
END:DAYLIGHT
BEGIN:STANDARD
TZOFFSETFROM:-0500
TZOFFSETTO:-0600
TZNAME:CST
DTSTART:20261101T070000
END:STANDARD
END:VTIMEZONE
BEGIN:VEVENT
DTSTART;TZID=America/Chicago:20251012T083000
DTEND;TZID=America/Chicago:20251012T133000
DTSTAMP:20260420T225348
CREATED:20250717T215523Z
LAST-MODIFIED:20250717T215523Z
UID:10000023-1760257800-1760275800@tonycooke.org
SUMMARY:Naples Church (Naples\, FL)
DESCRIPTION:Pastor Paul Foslien | Sunday services at 8:30 am\, 9:30 am\, 10:45 am\, and 12 pm \n\n        \n            \n                \n                Support TCM
URL:https://tonycooke.org/event/naples-church-naples-fl/
LOCATION:Naples Church\, 10910 Immokalee Road\, Naples\, FL\, 34120
END:VEVENT
END:VCALENDAR