BEGIN:VCALENDAR
VERSION:2.0
PRODID:-//Tony Cooke Ministries - ECPv6.15.20//NONSGML v1.0//EN
CALSCALE:GREGORIAN
METHOD:PUBLISH
X-ORIGINAL-URL:https://tonycooke.org
X-WR-CALDESC:Events for Tony Cooke Ministries
REFRESH-INTERVAL;VALUE=DURATION:PT1H
X-Robots-Tag:noindex
X-PUBLISHED-TTL:PT1H
BEGIN:VTIMEZONE
TZID:America/Los_Angeles
BEGIN:DAYLIGHT
TZOFFSETFROM:-0800
TZOFFSETTO:-0700
TZNAME:PDT
DTSTART:20250309T100000
END:DAYLIGHT
BEGIN:STANDARD
TZOFFSETFROM:-0700
TZOFFSETTO:-0800
TZNAME:PST
DTSTART:20251102T090000
END:STANDARD
BEGIN:DAYLIGHT
TZOFFSETFROM:-0800
TZOFFSETTO:-0700
TZNAME:PDT
DTSTART:20260308T100000
END:DAYLIGHT
BEGIN:STANDARD
TZOFFSETFROM:-0700
TZOFFSETTO:-0800
TZNAME:PST
DTSTART:20261101T090000
END:STANDARD
BEGIN:DAYLIGHT
TZOFFSETFROM:-0800
TZOFFSETTO:-0700
TZNAME:PDT
DTSTART:20270314T100000
END:DAYLIGHT
BEGIN:STANDARD
TZOFFSETFROM:-0700
TZOFFSETTO:-0800
TZNAME:PST
DTSTART:20271107T090000
END:STANDARD
END:VTIMEZONE
BEGIN:VEVENT
DTSTART;TZID=America/Los_Angeles:20260929T090000
DTEND;TZID=America/Los_Angeles:20260929T150000
DTSTAMP:20260425T072308
CREATED:20251106T210028Z
LAST-MODIFIED:20251106T210211Z
UID:10000050-1790672400-1790694000@tonycooke.org
SUMMARY:Leadership Roundtable with Gerald Brooks (Oakland\, IA)
DESCRIPTION:Hosted by Fellowship Church | For more information or to register\, visit www.geraldbrooksministries.com/roundtables or contact Katie Palmer at (469) 322-0518. \n\n        \n            \n                \n                Support TCM
URL:https://tonycooke.org/event/leadership-roundtable-with-gerald-brooks-oaklandia/
LOCATION:Fellowship Church\, 18999 Hwy 59\, Oakland\, IA\, 51560
END:VEVENT
END:VCALENDAR