BEGIN:VCALENDAR
VERSION:2.0
PRODID:-//Tony Cooke Ministries - ECPv6.15.20//NONSGML v1.0//EN
CALSCALE:GREGORIAN
METHOD:PUBLISH
X-ORIGINAL-URL:https://tonycooke.org
X-WR-CALDESC:Events for Tony Cooke Ministries
REFRESH-INTERVAL;VALUE=DURATION:PT1H
X-Robots-Tag:noindex
X-PUBLISHED-TTL:PT1H
BEGIN:VTIMEZONE
TZID:America/Chicago
BEGIN:DAYLIGHT
TZOFFSETFROM:-0600
TZOFFSETTO:-0500
TZNAME:CDT
DTSTART:20250309T080000
END:DAYLIGHT
BEGIN:STANDARD
TZOFFSETFROM:-0500
TZOFFSETTO:-0600
TZNAME:CST
DTSTART:20251102T070000
END:STANDARD
BEGIN:DAYLIGHT
TZOFFSETFROM:-0600
TZOFFSETTO:-0500
TZNAME:CDT
DTSTART:20260308T080000
END:DAYLIGHT
BEGIN:STANDARD
TZOFFSETFROM:-0500
TZOFFSETTO:-0600
TZNAME:CST
DTSTART:20261101T070000
END:STANDARD
BEGIN:DAYLIGHT
TZOFFSETFROM:-0600
TZOFFSETTO:-0500
TZNAME:CDT
DTSTART:20270314T080000
END:DAYLIGHT
BEGIN:STANDARD
TZOFFSETFROM:-0500
TZOFFSETTO:-0600
TZNAME:CST
DTSTART:20271107T070000
END:STANDARD
END:VTIMEZONE
BEGIN:VEVENT
DTSTART;TZID=America/Chicago:20260104T103000
DTEND;TZID=America/Chicago:20260104T120000
DTSTAMP:20260421T100500
CREATED:20251212T193855Z
LAST-MODIFIED:20251212T193855Z
UID:10000057-1767522600-1767528000@tonycooke.org
SUMMARY:Victory Family Church (Belleville\, IL)
DESCRIPTION:Pastor David Harbison | Service time: 10:30am
URL:https://tonycooke.org/event/victory-family-church-belleville-il/
LOCATION:Victory Family Church\, 555 South Belt West\, Belleville\, IL\, 62220\, United States
END:VEVENT
BEGIN:VEVENT
DTSTART;TZID=America/Chicago:20260107T183000
DTEND;TZID=America/Chicago:20260107T200000
DTSTAMP:20260421T100500
CREATED:20260105T193437Z
LAST-MODIFIED:20260105T193437Z
UID:10000059-1767810600-1767816000@tonycooke.org
SUMMARY:Your Place Church (Pryor\, OK)
DESCRIPTION:Pastors Darian & Tyra Rains | Service time: 6:30 PM
URL:https://tonycooke.org/event/your-place-church-pryor-ok/
LOCATION:Your Place Church\, 3131 W 520 Rd\, Pryor\, OK\, 74361\, United States
END:VEVENT
BEGIN:VEVENT
DTSTART;TZID=America/Chicago:20260111T100000
DTEND;TZID=America/Chicago:20260111T120000
DTSTAMP:20260421T100500
CREATED:20251202T191732Z
LAST-MODIFIED:20251202T191732Z
UID:10000052-1768125600-1768132800@tonycooke.org
SUMMARY:Berean Church (Pittsburgh\, PA)
DESCRIPTION:Pastor Mark Moder | Service time is 10 AM
URL:https://tonycooke.org/event/berean-church-pittsburgh-pa/
LOCATION:Berean Church\, 300 Rockfield Cir\, Pittsburgh\, PA\, 15243\, United States
END:VEVENT
BEGIN:VEVENT
DTSTART;TZID=America/Chicago:20260112T080000
DTEND;TZID=America/Chicago:20260114T170000
DTSTAMP:20260421T100500
CREATED:20251106T210609Z
LAST-MODIFIED:20251106T210609Z
UID:10000051-1768204800-1768410000@tonycooke.org
SUMMARY:Victory Family Church (Cranberry Township\, PA)
DESCRIPTION:Church History Class Taping
URL:https://tonycooke.org/event/victory-family-church-cranberry-township-pa/
LOCATION:NE
END:VEVENT
BEGIN:VEVENT
DTSTART;TZID=America/Chicago:20260122T080000
DTEND;TZID=America/Chicago:20260130T170000
DTSTAMP:20260421T100500
CREATED:20251212T194043Z
LAST-MODIFIED:20251212T194043Z
UID:10000058-1769068800-1769792400@tonycooke.org
SUMMARY:International Ministry
DESCRIPTION:
URL:https://tonycooke.org/event/international-ministry-2/
LOCATION:NE
END:VEVENT
BEGIN:VEVENT
DTSTART;TZID=America/Chicago:20260126T080000
DTEND;TZID=America/Chicago:20260128T170000
DTSTAMP:20260421T100500
CREATED:20251105T202259Z
LAST-MODIFIED:20251105T202453Z
UID:10000037-1769414400-1769619600@tonycooke.org
SUMMARY:Pastor's Summit (Naples\, Italy)
DESCRIPTION:Good News Ministries\nMauro & Connie Girgenti
URL:https://tonycooke.org/event/pastors-summit-naples-italy/
LOCATION:NE
END:VEVENT
END:VCALENDAR